BEGIN:VCALENDAR
VERSION:2.0
PRODID:-//The Coppid Beech Hotel - ECPv6.15.20//NONSGML v1.0//EN
CALSCALE:GREGORIAN
METHOD:PUBLISH
X-ORIGINAL-URL:https://www.coppidbeech.com
X-WR-CALDESC:Events for The Coppid Beech Hotel
REFRESH-INTERVAL;VALUE=DURATION:PT1H
X-Robots-Tag:noindex
X-PUBLISHED-TTL:PT1H
BEGIN:VTIMEZONE
TZID:UTC
BEGIN:STANDARD
TZOFFSETFROM:+0000
TZOFFSETTO:+0000
TZNAME:UTC
DTSTART:20250101T000000
END:STANDARD
END:VTIMEZONE
BEGIN:VEVENT
DTSTART;TZID=UTC:20260424T190000
DTEND;TZID=UTC:20260424T190000
DTSTAMP:20260421T034831
CREATED:20251029T132112Z
LAST-MODIFIED:20251029T132214Z
UID:257161-1777057200-1777057200@www.coppidbeech.com
SUMMARY:Full Flavour
DESCRIPTION:FULL FLAVOUR is a band with a difference. Made up of seasoned performers who have experience playing in numerous bands\, they have combined the best tunes from them all\, to create a song list to cater for all tastes\, hence FULL FLAVOUR \nDoors 7pm\, Band 9.45pm \nNote: As a condition of entry to the Bier Keller and Après you will be required to provide photo ID By providing your ID you agree that your information may be used and shared with the police and other authorities. Failure to provide suitable photo ID will result in the refusal of admission
URL:https://www.coppidbeech.com/event/full-flavour-band/
LOCATION:The Bier Keller and Apres Nightclub\, The Coppid Beech\, Binfield\, Berkshire\, RG12 8TF\, United Kingdom
ORGANIZER;CN="Coppid Beech Hotel":MAILTO:sales@coppidbeech.com
END:VEVENT
BEGIN:VEVENT
DTSTART;TZID=UTC:20260425T190000
DTEND;TZID=UTC:20260425T190000
DTSTAMP:20260421T034831
CREATED:20251028T155821Z
LAST-MODIFIED:20251121T164836Z
UID:257035-1777143600-1777143600@www.coppidbeech.com
SUMMARY:Vintage Sound Collective
DESCRIPTION:The Vintage Sound Collective bring you the finest blend of classy\, high energy Soul\, Funk\, Disco and Pop that will keep the party rocking and the dancefloor grooving! If you love the vintage sounds of Stevie Wonder\, Aretha Franklin\, Chic\, Jocelyn Brown\, James Brown\, Jamiroquai\, Bruno Mars to name but a few then VSC are all your party needs! A full 7 piece band of quality musicians bringing you the classic tracks you love to dance to\, and we love to play all night long!! \nDoors open 7pm\, Band 9.45pm \nBier Keller is standing only \nNote: As a condition of entry to the Bier Keller and Après you will be required to provide photo ID. By providing your ID you agree that your information may be used and shared with the police and other authorities. Failure to provide suitable photo ID will result in the refusal of admission
URL:https://www.coppidbeech.com/event/vintage-sound-collective-8/
LOCATION:The Bier Keller and Apres Nightclub\, The Coppid Beech\, Binfield\, Berkshire\, RG12 8TF\, United Kingdom
ORGANIZER;CN="Coppid Beech Hotel":MAILTO:sales@coppidbeech.com
END:VEVENT
END:VCALENDAR