BEGIN:VCALENDAR
VERSION:2.0
PRODID:-//The Coppid Beech Hotel - ECPv6.15.20//NONSGML v1.0//EN
CALSCALE:GREGORIAN
METHOD:PUBLISH
X-WR-CALNAME:The Coppid Beech Hotel
X-ORIGINAL-URL:https://www.coppidbeech.com
X-WR-CALDESC:Events for The Coppid Beech Hotel
REFRESH-INTERVAL;VALUE=DURATION:PT1H
X-Robots-Tag:noindex
X-PUBLISHED-TTL:PT1H
BEGIN:VTIMEZONE
TZID:UTC
BEGIN:STANDARD
TZOFFSETFROM:+0000
TZOFFSETTO:+0000
TZNAME:UTC
DTSTART:20220101T000000
END:STANDARD
END:VTIMEZONE
BEGIN:VEVENT
DTSTART;TZID=UTC:20230804T190000
DTEND;TZID=UTC:20230804T190000
DTSTAMP:20260421T210718
CREATED:20230110T171018Z
LAST-MODIFIED:20230110T171018Z
UID:40009-1691175600-1691175600@www.coppidbeech.com
SUMMARY:Bier Keller & Apres Closed
DESCRIPTION:Bier Keller & Apres Closed
URL:https://www.coppidbeech.com/event/bier-keller-apres-closed-13/
LOCATION:The Bier Keller and Apres Nightclub\, The Coppid Beech\, Binfield\, Berkshire\, RG12 8TF\, United Kingdom
ORGANIZER;CN="Coppid Beech Hotel":MAILTO:sales@coppidbeech.com
END:VEVENT
BEGIN:VEVENT
DTSTART;TZID=UTC:20230805T190000
DTEND;TZID=UTC:20230805T190000
DTSTAMP:20260421T210718
CREATED:20230110T171057Z
LAST-MODIFIED:20230110T171057Z
UID:40011-1691262000-1691262000@www.coppidbeech.com
SUMMARY:Bier Keller & Apres Closed
DESCRIPTION:Bier Keller & Apres Closed
URL:https://www.coppidbeech.com/event/bier-keller-apres-closed-14/
LOCATION:The Bier Keller and Apres Nightclub\, The Coppid Beech\, Binfield\, Berkshire\, RG12 8TF\, United Kingdom
ORGANIZER;CN="Coppid Beech Hotel":MAILTO:sales@coppidbeech.com
END:VEVENT
BEGIN:VEVENT
DTSTART;TZID=UTC:20230811T190000
DTEND;TZID=UTC:20230811T190000
DTSTAMP:20260421T210718
CREATED:20230110T171136Z
LAST-MODIFIED:20230110T171136Z
UID:40013-1691780400-1691780400@www.coppidbeech.com
SUMMARY:Bier Keller & Apres Closed
DESCRIPTION:Bier Keller & Apres Closed
URL:https://www.coppidbeech.com/event/bier-keller-apres-closed-15/
LOCATION:The Bier Keller and Apres Nightclub\, The Coppid Beech\, Binfield\, Berkshire\, RG12 8TF\, United Kingdom
ORGANIZER;CN="Coppid Beech Hotel":MAILTO:sales@coppidbeech.com
END:VEVENT
BEGIN:VEVENT
DTSTART;TZID=UTC:20230812T190000
DTEND;TZID=UTC:20230812T190000
DTSTAMP:20260421T210718
CREATED:20230110T171201Z
LAST-MODIFIED:20230110T171201Z
UID:40015-1691866800-1691866800@www.coppidbeech.com
SUMMARY:Bier Keller & Apres Closed
DESCRIPTION:Bier Keller & Apres Closed
URL:https://www.coppidbeech.com/event/bier-keller-apres-closed-16/
LOCATION:The Bier Keller and Apres Nightclub\, The Coppid Beech\, Binfield\, Berkshire\, RG12 8TF\, United Kingdom
ORGANIZER;CN="Coppid Beech Hotel":MAILTO:sales@coppidbeech.com
END:VEVENT
BEGIN:VEVENT
DTSTART;TZID=UTC:20230818T190000
DTEND;TZID=UTC:20230818T190000
DTSTAMP:20260421T210718
CREATED:20230110T171229Z
LAST-MODIFIED:20230110T171229Z
UID:40017-1692385200-1692385200@www.coppidbeech.com
SUMMARY:Bier Keller & Apres Closed
DESCRIPTION:Bier Keller & Apres Closed
URL:https://www.coppidbeech.com/event/bier-keller-apres-closed-17/
LOCATION:The Bier Keller and Apres Nightclub\, The Coppid Beech\, Binfield\, Berkshire\, RG12 8TF\, United Kingdom
ORGANIZER;CN="Coppid Beech Hotel":MAILTO:sales@coppidbeech.com
END:VEVENT
BEGIN:VEVENT
DTSTART;TZID=UTC:20230819T190000
DTEND;TZID=UTC:20230819T190000
DTSTAMP:20260421T210718
CREATED:20230110T171252Z
LAST-MODIFIED:20230813T185513Z
UID:40019-1692471600-1692471600@www.coppidbeech.com
SUMMARY:Trevor Nelson's Soul Nation
DESCRIPTION:BROWNS Promotions and Glitterati are delighted to bring the UK king of R&B\, Trevor Nelson to the The Gaiety for a night of the smoothest and sexiest soul and R&B. \nTrevor is an absolute legend in the game from Radio 1 to MTV’s infamous lick parties where he played for the likes of Puff Daddy\, Mary J Blige and more. \nThis is a night for all you R&B connoisseurs and WILL sell out in advance\, do not miss out!\n2-Room Event \nRoom 2\nDj’s TBC \nTICKETS:\nFirst Release £22 – Sold out\nSecond Release £25 – Sold out\nFinal Release £30\nBook Tickets Here \nVIP-1 £450 ‘Main Bar’ Booth – Seats 10. Complimentary glass of Champagne\, fast track entrance\, Host table service.\nVIP-2 £350 Seats 10. Complimentary glass of Champagne\, fast track entrance\, Host table service.\nVIP-3 £350 Seats 10\, Complimentary glass of Champagne\, fast\ntrack entrance\, Host table service.\nVIP-4 £700 Seats 20. Complimentary glass of Champagne\, fast\ntrack entrance\, Host table service \nTickets on sale now \nNote: As a condition of entry to the Bier Keller and Après you will be required to provide photo ID . By providing your ID you agree that your information may be used and shared with the police and other authorities. Failure to provide suitable photo ID will result in the refusal of admission \nPlease note that access to Keller & Après cannot be guaranteed unless tickets have been purchased in advance
URL:https://www.coppidbeech.com/event/bier-keller-apres-closed-18/
LOCATION:The Bier Keller and Apres Nightclub\, The Coppid Beech\, Binfield\, Berkshire\, RG12 8TF\, United Kingdom
ORGANIZER;CN="Coppid Beech Hotel":MAILTO:sales@coppidbeech.com
END:VEVENT
BEGIN:VEVENT
DTSTART;TZID=UTC:20230825T190000
DTEND;TZID=UTC:20230825T190000
DTSTAMP:20260421T210718
CREATED:20230110T171334Z
LAST-MODIFIED:20230110T171344Z
UID:40021-1692990000-1692990000@www.coppidbeech.com
SUMMARY:Bier Keller & Apres Closed
DESCRIPTION:Bier Keller & Apres Closed
URL:https://www.coppidbeech.com/event/bier-keller-apres-closed-19/
LOCATION:The Bier Keller and Apres Nightclub\, The Coppid Beech\, Binfield\, Berkshire\, RG12 8TF\, United Kingdom
ORGANIZER;CN="Coppid Beech Hotel":MAILTO:sales@coppidbeech.com
END:VEVENT
BEGIN:VEVENT
DTSTART;TZID=UTC:20230826T190000
DTEND;TZID=UTC:20230826T190000
DTSTAMP:20260421T210718
CREATED:20230110T171412Z
LAST-MODIFIED:20230110T171412Z
UID:40023-1693076400-1693076400@www.coppidbeech.com
SUMMARY:Bier Keller & Apres Closed
DESCRIPTION:Bier Keller & Apres Closed
URL:https://www.coppidbeech.com/event/bier-keller-apres-closed-20/
LOCATION:The Bier Keller and Apres Nightclub\, The Coppid Beech\, Binfield\, Berkshire\, RG12 8TF\, United Kingdom
ORGANIZER;CN="Coppid Beech Hotel":MAILTO:sales@coppidbeech.com
END:VEVENT
END:VCALENDAR