BEGIN:VCALENDAR
VERSION:2.0
PRODID:-//The Coppid Beech Hotel - ECPv6.15.20//NONSGML v1.0//EN
CALSCALE:GREGORIAN
METHOD:PUBLISH
X-ORIGINAL-URL:https://www.coppidbeech.com
X-WR-CALDESC:Events for The Coppid Beech Hotel
REFRESH-INTERVAL;VALUE=DURATION:PT1H
X-Robots-Tag:noindex
X-PUBLISHED-TTL:PT1H
BEGIN:VTIMEZONE
TZID:UTC
BEGIN:STANDARD
TZOFFSETFROM:+0000
TZOFFSETTO:+0000
TZNAME:UTC
DTSTART:20250101T000000
END:STANDARD
END:VTIMEZONE
BEGIN:VEVENT
DTSTART;TZID=UTC:20260703T190000
DTEND;TZID=UTC:20260703T190000
DTSTAMP:20260421T080510
CREATED:20260130T193952Z
LAST-MODIFIED:20260130T194019Z
UID:260627-1783105200-1783105200@www.coppidbeech.com
SUMMARY:I Got Soul Musical Nation Weekender
DESCRIPTION:Get ready for a weekend like no other… Welcome to MUSICAL nation! \nThree days of pure soulful magic across three dancefloors and a patio\, bringing together all genres of soul under one roof!
URL:https://www.coppidbeech.com/event/i-got-soul-musical-nation-weekender/
LOCATION:The Bier Keller and Apres Nightclub\, The Coppid Beech\, Binfield\, Berkshire\, RG12 8TF\, United Kingdom
ORGANIZER;CN="Coppid Beech Hotel":MAILTO:sales@coppidbeech.com
END:VEVENT
BEGIN:VEVENT
DTSTART;TZID=UTC:20260704T190000
DTEND;TZID=UTC:20260704T190000
DTSTAMP:20260421T080510
CREATED:20260130T194143Z
LAST-MODIFIED:20260130T194143Z
UID:260631-1783191600-1783191600@www.coppidbeech.com
SUMMARY:I Got Soul Musical Nation Weekender
DESCRIPTION:Get ready for a weekend like no other… Welcome to MUSICAL nation! \nThree days of pure soulful magic across three dancefloors and a patio\, bringing together all genres of soul under one roof!
URL:https://www.coppidbeech.com/event/i-got-soul-musical-nation-weekender-2/
LOCATION:The Bier Keller and Apres Nightclub\, The Coppid Beech\, Binfield\, Berkshire\, RG12 8TF\, United Kingdom
ORGANIZER;CN="Coppid Beech Hotel":MAILTO:sales@coppidbeech.com
END:VEVENT
BEGIN:VEVENT
DTSTART;TZID=UTC:20260705T190000
DTEND;TZID=UTC:20260705T190000
DTSTAMP:20260421T080510
CREATED:20260130T194242Z
LAST-MODIFIED:20260130T194242Z
UID:260633-1783278000-1783278000@www.coppidbeech.com
SUMMARY:I Got Soul Musical Nation Weekender
DESCRIPTION:Get ready for a weekend like no other… Welcome to MUSICAL nation! \nThree days of pure soulful magic across three dancefloors and a patio\, bringing together all genres of soul under one roof!
URL:https://www.coppidbeech.com/event/i-got-soul-musical-nation-weekender-3/
LOCATION:The Bier Keller and Apres Nightclub\, The Coppid Beech\, Binfield\, Berkshire\, RG12 8TF\, United Kingdom
ORGANIZER;CN="Coppid Beech Hotel":MAILTO:sales@coppidbeech.com
END:VEVENT
BEGIN:VEVENT
DTSTART;TZID=UTC:20260710T190000
DTEND;TZID=UTC:20260710T190000
DTSTAMP:20260421T080510
CREATED:20260113T204012Z
LAST-MODIFIED:20260130T192232Z
UID:258910-1783710000-1783710000@www.coppidbeech.com
SUMMARY:All About You
DESCRIPTION:All About You are a professional\, highly energetic & finely skilled 4-piece party showband. They perform over 150+ gigs a year & cover a wide range of classic 60’s-modern day Pop\, Rock\, Funk & Soul. \nThroughout all their live shows ‘All About You’ ensure the dancefloor is always full whatever the occasion! \nDoors open 7pm\, Band from 9.30pm \nNote: As a condition of entry to the Bier Keller and Après you will be required to provide photo ID. By providing your ID you agree that your information may be used and shared with the police and other authorities. Failure to provide suitable photo ID will result in the refusal of admission
URL:https://www.coppidbeech.com/event/all-about-you-15/
LOCATION:The Bier Keller and Apres Nightclub\, The Coppid Beech\, Binfield\, Berkshire\, RG12 8TF\, United Kingdom
ORGANIZER;CN="Coppid Beech Hotel":MAILTO:sales@coppidbeech.com
END:VEVENT
BEGIN:VEVENT
DTSTART;TZID=UTC:20260711T190000
DTEND;TZID=UTC:20260711T190000
DTSTAMP:20260421T080510
CREATED:20260130T192340Z
LAST-MODIFIED:20260130T192340Z
UID:260594-1783796400-1783796400@www.coppidbeech.com
SUMMARY:Cover Band - TBC
DESCRIPTION:Cover Band – TBC
URL:https://www.coppidbeech.com/event/cover-band-tbc-11/
LOCATION:The Bier Keller and Apres Nightclub\, The Coppid Beech\, Binfield\, Berkshire\, RG12 8TF\, United Kingdom
ORGANIZER;CN="Coppid Beech Hotel":MAILTO:sales@coppidbeech.com
END:VEVENT
BEGIN:VEVENT
DTSTART;TZID=UTC:20260717T190000
DTEND;TZID=UTC:20260717T190000
DTSTAMP:20260421T080510
CREATED:20260130T192453Z
LAST-MODIFIED:20260130T192637Z
UID:260596-1784314800-1784314800@www.coppidbeech.com
SUMMARY:Bier Keller & Apres Closed
DESCRIPTION:Bier Keller & Apres Closed
URL:https://www.coppidbeech.com/event/bier-keller-apres-closed-67/
LOCATION:The Bier Keller and Apres Nightclub\, The Coppid Beech\, Binfield\, Berkshire\, RG12 8TF\, United Kingdom
ORGANIZER;CN="Coppid Beech Hotel":MAILTO:sales@coppidbeech.com
END:VEVENT
BEGIN:VEVENT
DTSTART;TZID=UTC:20260718T190000
DTEND;TZID=UTC:20260718T190000
DTSTAMP:20260421T080510
CREATED:20251028T144233Z
LAST-MODIFIED:20251028T144233Z
UID:256910-1784401200-1784401200@www.coppidbeech.com
SUMMARY:Bier Keller & Apres Closed
DESCRIPTION:Bier Keller & Apres Closed
URL:https://www.coppidbeech.com/event/bier-keller-apres-closed-58/
LOCATION:The Bier Keller and Apres Nightclub\, The Coppid Beech\, Binfield\, Berkshire\, RG12 8TF\, United Kingdom
ORGANIZER;CN="Coppid Beech Hotel":MAILTO:sales@coppidbeech.com
END:VEVENT
BEGIN:VEVENT
DTSTART;TZID=UTC:20260724T190000
DTEND;TZID=UTC:20260724T190000
DTSTAMP:20260421T080510
CREATED:20251028T144321Z
LAST-MODIFIED:20251028T144321Z
UID:256912-1784919600-1784919600@www.coppidbeech.com
SUMMARY:Bier Keller & Apres Closed
DESCRIPTION:Bier Keller & Apres Closed
URL:https://www.coppidbeech.com/event/bier-keller-apres-closed-60/
LOCATION:The Bier Keller and Apres Nightclub\, The Coppid Beech\, Binfield\, Berkshire\, RG12 8TF\, United Kingdom
ORGANIZER;CN="Coppid Beech Hotel":MAILTO:sales@coppidbeech.com
END:VEVENT
BEGIN:VEVENT
DTSTART;TZID=UTC:20260725T190000
DTEND;TZID=UTC:20260725T190000
DTSTAMP:20260421T080510
CREATED:20251028T144417Z
LAST-MODIFIED:20251028T144417Z
UID:256915-1785006000-1785006000@www.coppidbeech.com
SUMMARY:Bier Keller & Apres Closed
DESCRIPTION:Bier Keller & Apres Closed
URL:https://www.coppidbeech.com/event/bier-keller-apres-closed-61/
LOCATION:The Bier Keller and Apres Nightclub\, The Coppid Beech\, Binfield\, Berkshire\, RG12 8TF\, United Kingdom
ORGANIZER;CN="Coppid Beech Hotel":MAILTO:sales@coppidbeech.com
END:VEVENT
BEGIN:VEVENT
DTSTART;TZID=UTC:20260731T190000
DTEND;TZID=UTC:20260731T190000
DTSTAMP:20260421T080510
CREATED:20251028T144448Z
LAST-MODIFIED:20251028T144448Z
UID:256919-1785524400-1785524400@www.coppidbeech.com
SUMMARY:Bier Keller & Apres Closed
DESCRIPTION:Bier Keller & Apres Closed
URL:https://www.coppidbeech.com/event/bier-keller-apres-closed-62/
LOCATION:The Bier Keller and Apres Nightclub\, The Coppid Beech\, Binfield\, Berkshire\, RG12 8TF\, United Kingdom
ORGANIZER;CN="Coppid Beech Hotel":MAILTO:sales@coppidbeech.com
END:VEVENT
END:VCALENDAR