BEGIN:VCALENDAR
VERSION:2.0
PRODID:-//The Coppid Beech Hotel - ECPv6.15.20//NONSGML v1.0//EN
CALSCALE:GREGORIAN
METHOD:PUBLISH
X-ORIGINAL-URL:https://www.coppidbeech.com
X-WR-CALDESC:Events for The Coppid Beech Hotel
REFRESH-INTERVAL;VALUE=DURATION:PT1H
X-Robots-Tag:noindex
X-PUBLISHED-TTL:PT1H
BEGIN:VTIMEZONE
TZID:UTC
BEGIN:STANDARD
TZOFFSETFROM:+0000
TZOFFSETTO:+0000
TZNAME:UTC
DTSTART:20250101T000000
END:STANDARD
END:VTIMEZONE
BEGIN:VEVENT
DTSTART;TZID=UTC:20260801T190000
DTEND;TZID=UTC:20260801T190000
DTSTAMP:20260421T094302
CREATED:20251028T144535Z
LAST-MODIFIED:20251028T144535Z
UID:256921-1785610800-1785610800@www.coppidbeech.com
SUMMARY:Bier Keller & Apres Closed
DESCRIPTION:Bier Keller & Apres Closed
URL:https://www.coppidbeech.com/event/bier-keller-apres-closed-63/
LOCATION:The Bier Keller and Apres Nightclub\, The Coppid Beech\, Binfield\, Berkshire\, RG12 8TF\, United Kingdom
ORGANIZER;CN="Coppid Beech Hotel":MAILTO:sales@coppidbeech.com
END:VEVENT
BEGIN:VEVENT
DTSTART;TZID=UTC:20260807T190000
DTEND;TZID=UTC:20260807T190000
DTSTAMP:20260421T094302
CREATED:20251028T144612Z
LAST-MODIFIED:20251028T144612Z
UID:256924-1786129200-1786129200@www.coppidbeech.com
SUMMARY:Bier Keller & Apres Closed
DESCRIPTION:Bier Keller & Apres Closed
URL:https://www.coppidbeech.com/event/bier-keller-apres-closed-64/
LOCATION:The Bier Keller and Apres Nightclub\, The Coppid Beech\, Binfield\, Berkshire\, RG12 8TF\, United Kingdom
ORGANIZER;CN="Coppid Beech Hotel":MAILTO:sales@coppidbeech.com
END:VEVENT
BEGIN:VEVENT
DTSTART;TZID=UTC:20260808T190000
DTEND;TZID=UTC:20260808T190000
DTSTAMP:20260421T094302
CREATED:20251028T144646Z
LAST-MODIFIED:20251028T144646Z
UID:256926-1786215600-1786215600@www.coppidbeech.com
SUMMARY:Bier Keller & Apres Closed
DESCRIPTION:Bier Keller & Apres Closed
URL:https://www.coppidbeech.com/event/bier-keller-apres-closed-65/
LOCATION:The Bier Keller and Apres Nightclub\, The Coppid Beech\, Binfield\, Berkshire\, RG12 8TF\, United Kingdom
ORGANIZER;CN="Coppid Beech Hotel":MAILTO:sales@coppidbeech.com
END:VEVENT
BEGIN:VEVENT
DTSTART;TZID=UTC:20260814T190000
DTEND;TZID=UTC:20260814T190000
DTSTAMP:20260421T094302
CREATED:20251028T144709Z
LAST-MODIFIED:20251028T144709Z
UID:256928-1786734000-1786734000@www.coppidbeech.com
SUMMARY:Bier Keller & Apres Closed
DESCRIPTION:Bier Keller & Apres Closed
URL:https://www.coppidbeech.com/event/bier-keller-apres-closed-66/
LOCATION:The Bier Keller and Apres Nightclub\, The Coppid Beech\, Binfield\, Berkshire\, RG12 8TF\, United Kingdom
ORGANIZER;CN="Coppid Beech Hotel":MAILTO:sales@coppidbeech.com
END:VEVENT
BEGIN:VEVENT
DTSTART;TZID=UTC:20260815T190000
DTEND;TZID=UTC:20260815T190000
DTSTAMP:20260421T094302
CREATED:20260116T203110Z
LAST-MODIFIED:20260120T210008Z
UID:259294-1786820400-1786820400@www.coppidbeech.com
SUMMARY:The Terri Green Project  Featuring Dynelle Rhodes
DESCRIPTION:The Terri Green Project Featuring The Weather Girls’ Dynelle Rhodes\nGet ready for a truly special night as we welcome Terri Green\, one of the most dynamic voices to bridge the worlds of dance\, soul\, and smooth jazz. \nTerri first burst onto the scene as part of 2 Eivissa\, hitting global charts with the 1997 smash “Oh La La La”—#1 in Spain and Italy and Top 20 in the UK. Her career soared as she collaborated with icons including Avicii\, Roger Sanchez\, Bob Sinclar\, and performed alongside David Guetta and Tiësto\, touring stages from Shanghai to Dubai. \nIn 2019\, Terri returned to her soulful roots\, forming The Terri Green Project with Torsten Abrolat. Their breakout single “Night to Remember” debuted at #1 on the UK Soul Chart\, catching the attention of BBC legend Tony Blackburn and soul tastemakers worldwide. With the support of promoter Steve Ripley\, the duo rose from underground favourites to UK radio regulars\, achieving ten #1 hits on the Independent Soul Charts. \nTerri’s accolades include:\nIndie Soul Grammy (2022) – Best Female Vocal\nUS Indie Soul Grammy – Best Duo (with Grammy-winning producer Randy Hall for “Turnt Up Tonight”\, which reached #27 on the US R&B Airplay Chart)\nNever standing still\, Terri continued her evolution with smooth jazz releases like “Unexpected Love”\, entering both the Smooth Jazz Top 100 Network and Billboard Smooth Jazz Top 100 in 2024. Fan favourites such as “Caught Up\,” “Giving It Up\,” “Gonna Get Over You\,” and “What a Feeling (LP)” continue to light up playlists worldwide. \nSupport on the night: DJ Ez B\n🎟 Tickets: £20–£30 online | MOTD (includes entry to Keller & Apres)\nBook Tickets Here \nPhoto ID required for entry. Access to Keller & Après not guaranteed without advance ticket purchase.
URL:https://www.coppidbeech.com/event/he-terri-green-project/
LOCATION:The Bier Keller and Apres Nightclub\, The Coppid Beech\, Binfield\, Berkshire\, RG12 8TF\, United Kingdom
ORGANIZER;CN="Coppid Beech Hotel":MAILTO:sales@coppidbeech.com
END:VEVENT
BEGIN:VEVENT
DTSTART;TZID=UTC:20260821T190000
DTEND;TZID=UTC:20260821T190000
DTSTAMP:20260421T094302
CREATED:20251028T144833Z
LAST-MODIFIED:20251028T144843Z
UID:256932-1787338800-1787338800@www.coppidbeech.com
SUMMARY:Bier Keller & Apres Closed
DESCRIPTION:Bier Keller & Apres Closed
URL:https://www.coppidbeech.com/event/bier-keller-apres-closed-68/
LOCATION:The Bier Keller and Apres Nightclub\, The Coppid Beech\, Binfield\, Berkshire\, RG12 8TF\, United Kingdom
ORGANIZER;CN="Coppid Beech Hotel":MAILTO:sales@coppidbeech.com
END:VEVENT
BEGIN:VEVENT
DTSTART;TZID=UTC:20260822T190000
DTEND;TZID=UTC:20260822T190000
DTSTAMP:20260421T094302
CREATED:20251028T144908Z
LAST-MODIFIED:20251028T144908Z
UID:256934-1787425200-1787425200@www.coppidbeech.com
SUMMARY:Bier Keller & Apres Closed
DESCRIPTION:Bier Keller & Apres Closed
URL:https://www.coppidbeech.com/event/bier-keller-apres-closed-69/
LOCATION:The Bier Keller and Apres Nightclub\, The Coppid Beech\, Binfield\, Berkshire\, RG12 8TF\, United Kingdom
ORGANIZER;CN="Coppid Beech Hotel":MAILTO:sales@coppidbeech.com
END:VEVENT
BEGIN:VEVENT
DTSTART;TZID=UTC:20260828T190000
DTEND;TZID=UTC:20260828T190000
DTSTAMP:20260421T094302
CREATED:20251028T144935Z
LAST-MODIFIED:20251028T144935Z
UID:256937-1787943600-1787943600@www.coppidbeech.com
SUMMARY:Bier Keller & Apres Closed
DESCRIPTION:Bier Keller & Apres Closed
URL:https://www.coppidbeech.com/event/bier-keller-apres-closed-70/
LOCATION:The Bier Keller and Apres Nightclub\, The Coppid Beech\, Binfield\, Berkshire\, RG12 8TF\, United Kingdom
ORGANIZER;CN="Coppid Beech Hotel":MAILTO:sales@coppidbeech.com
END:VEVENT
BEGIN:VEVENT
DTSTART;TZID=UTC:20260829T190000
DTEND;TZID=UTC:20260829T190000
DTSTAMP:20260421T094302
CREATED:20251028T145014Z
LAST-MODIFIED:20251028T145014Z
UID:256940-1788030000-1788030000@www.coppidbeech.com
SUMMARY:Bier Keller & Apres Closed
DESCRIPTION:Bier Keller & Apres Closed
URL:https://www.coppidbeech.com/event/bier-keller-apres-closed-71/
LOCATION:The Bier Keller and Apres Nightclub\, The Coppid Beech\, Binfield\, Berkshire\, RG12 8TF\, United Kingdom
ORGANIZER;CN="Coppid Beech Hotel":MAILTO:sales@coppidbeech.com
END:VEVENT
END:VCALENDAR